BEGIN:VCALENDAR
PRODID:-//Det Danske Spejderkorps//NONSGML Gruppeweb//EN
VERSION:2.0
CALSCALE:GREGORIAN
X-PUBLISHED-TTL:PT1H
X-WR-CALNAME:Trop
METHOD:PUBLISH
BEGIN:VEVENT
UID:gruppeweb.dk:7502:event:496
DTSTAMP:20260422T203343Z
LAST-MODIFIED:20250507T200257Z
SUMMARY:Spejderdagen
DESCRIPTION:\n
URL:https://hinnerupspejdere.dk/begivenhed/spejderdagen
DTSTART:20250511T070000Z
DTEND:20250511T103000Z
LOCATION:Hinnerup Gruppen\, Århusvej 14\, Haldum\, 8382 Hinnerup
END:VEVENT
BEGIN:VEVENT
UID:gruppeweb.dk:7502:event:512
DTSTAMP:20260422T203343Z
LAST-MODIFIED:20250605T035620Z
SUMMARY:Loppemarked
DESCRIPTION:Søndag den 22. juni kl. 10-14 afholder DDS Spejderne i Hinner
 up deres  \nårlige loppemarked ved spejderhytten på Aarhusvej 14. \n\n
 Ingen tilmelding eller entré\, alle er velkomne!\n\nUdover skønne lopper
  kan der købes lidt til både den sultne mave og den  \nsøde tand\, lige
  som du kan prøve forskellige sjove og udfordrende  \nspejderaktiviteter\
 , som spejderne naturligvis selv arrangerer og afvikler.\n\nLoppemarkedet 
 er en begivenhed\, der ikke blot summer af liv og gode  \nloppefund\, men 
 som også er afgørende for spejdernes økonomi. Loppemarkedet  \nbidrager
  til\, at vi kan tilbyde attraktive og meningsfulde aktiviteter med  \nfok
 us på kammeratskab\, bæredygtighed\, fællesskab og trivsel – værdier
 \,  \nder er helt centrale i spejderlivet.\n\nSamtidig gør indtægterne d
 et muligt for os at holde kontingentet lavt\, så  \nalle børn og unge ha
 r mulighed for at være med\, uanset baggrund.\n\nParkering: Følg skilten
 e på Aarhusvej\, når du nærmer dig hytten.\n\n
URL:https://hinnerupspejdere.dk/begivenhed/loppemarked
DTSTART:20250622T080000Z
DTEND:20250622T120000Z
LOCATION:Hinnerup Gruppen\, Århusvej 14\, Haldum\, 8382 Hinnerup
END:VEVENT
BEGIN:VEVENT
UID:gruppeweb.dk:7502:event:516
DTSTAMP:20260422T203343Z
LAST-MODIFIED:20250417T052934Z
SUMMARY:Fælles spejdermøde
DESCRIPTION:Alle møder kl 17 til sct. Georgsdag.\n\n
URL:https://hinnerupspejdere.dk/begivenhed/faelles-spejdermoede
DTSTART:20250423T150000Z
DTEND:20250423T170000Z
LOCATION:Hinnerup Gruppen\, Århusvej 14\, Haldum\, 8382 Hinnerup
END:VEVENT
BEGIN:VEVENT
UID:gruppeweb.dk:7502:event:524
DTSTAMP:20260422T203343Z
LAST-MODIFIED:20250630T185656Z
SUMMARY:Start efter sommerferien for alle
DESCRIPTION:\n
URL:https://hinnerupspejdere.dk/begivenhed/start-efter-sommerferien-alle
DTSTART:20250813T000000Z
DTEND:20250813T170000Z
LOCATION:Hinnerup Gruppen\, Århusvej 14\, Haldum\, 8382 Hinnerup
END:VEVENT
BEGIN:VEVENT
UID:gruppeweb.dk:7502:event:525
DTSTAMP:20260422T203343Z
LAST-MODIFIED:20250630T190519Z
SUMMARY:Velkommen til nye spejdere
DESCRIPTION:Alle nye spejdere er velkomne. Familiespejd er 1. Søndag i hve
 r måned.\n\n0-1 kl. møder kl. 17 - 18.30\n\n2 - 3 kl. møder kl. 17 - 19
 \n\n4 - 9 kl. møder kl. 18 - 20\n\nKontakt gerne afdelingen inden du mød
 er op.\n\n\n
URL:https://hinnerupspejdere.dk/begivenhed/velkommen-til-nye-spejdere
DTSTART:20250820T150000Z
DTEND:20250820T180000Z
LOCATION:Hinnerup Gruppen\, Århusvej 14\, Haldum\, 8382 Hinnerup
END:VEVENT
BEGIN:VEVENT
UID:gruppeweb.dk:7502:event:555
DTSTAMP:20260422T203343Z
LAST-MODIFIED:20260106T182201Z
SUMMARY:Gruppeweekend
DESCRIPTION:\n
URL:https://hinnerupspejdere.dk/begivenhed/gruppeweekend
DTSTART:20260109T170000Z
DTEND:20260111T094500Z
LOCATION:Hinnerup Gruppen\, Århusvej 14\, Haldum\, 8382 Hinnerup
END:VEVENT
BEGIN:VEVENT
UID:gruppeweb.dk:7502:event:591
DTSTAMP:20260422T203343Z
LAST-MODIFIED:20260413T200129Z
SUMMARY:Sct. Georg for hele gruppen
DESCRIPTION:\n
URL:https://hinnerupspejdere.dk/begivenhed/sct-georg-hele-gruppen
DTSTART:20260422T150000Z
DTEND:20260422T163000Z
LOCATION:Hinnerup Gruppen\, Århusvej 14\, Haldum\, 8382 Hinnerup
END:VEVENT
BEGIN:VEVENT
UID:gruppeweb.dk:7502:event:592
DTSTAMP:20260422T203343Z
LAST-MODIFIED:20260413T200132Z
SUMMARY:Vintertur
DESCRIPTION:\n
URL:https://hinnerupspejdere.dk/begivenhed/vintertur
DTSTART:20270115T170000Z
DTEND:20270117T090000Z
LOCATION:Hinnerup Gruppen\, Århusvej 14\, Haldum\, 8382 Hinnerup
END:VEVENT
BEGIN:VEVENT
UID:gruppeweb.dk:7502:event:594
DTSTAMP:20260422T203343Z
LAST-MODIFIED:20260413T200134Z
SUMMARY:Gruppe weekend
DESCRIPTION:\n
URL:https://hinnerupspejdere.dk/begivenhed/gruppe-weekend
DTSTART:20260911T160000Z
DTEND:20260913T080000Z
LOCATION:Hinnerup Gruppen\, Århusvej 14\, Haldum\, 8382 Hinnerup
END:VEVENT
BEGIN:VEVENT
UID:gruppeweb.dk:7502:event:519
DTSTAMP:20260422T203343Z
LAST-MODIFIED:20250610T124700Z
SUMMARY:Overnatning ved hytten
DESCRIPTION:Trop og klan overnatter ved hytten i vores raftekonstruktion. D
 er vil være  \nsnacks og morgenmad - I skal have spist aftensmad hjemmefr
 a.\n\n
URL:https://hinnerupspejdere.dk/begivenhed/overnatning-ved-hytten
DTSTART:20250613T124000Z
DTEND:20250614T124000Z
LOCATION:Hinnerup Gruppen\, Århusvej 14\, Haldum\, 8382 Hinnerup
END:VEVENT
BEGIN:VEVENT
UID:gruppeweb.dk:7502:event:521
DTSTAMP:20260422T203343Z
LAST-MODIFIED:20250611T183624Z
SUMMARY:Kandersteg - trop og klan
DESCRIPTION:\n
URL:https://hinnerupspejdere.dk/begivenhed/kandersteg-trop-og-klan
DTSTART:20250704T150000Z
DTEND:20250713T060000Z
LOCATION:Hinnerup Gruppen\, Århusvej 14\, Haldum\, 8382 Hinnerup
END:VEVENT
BEGIN:VEVENT
UID:gruppeweb.dk:7502:event:548
DTSTAMP:20260422T203343Z
LAST-MODIFIED:20251006T194058Z
SUMMARY:Hyggeaften for junior/trop/klan
DESCRIPTION:Der er hygge i Hadsten sammen med de andre spejdere fra kommune
 n\n\n
URL:https://hinnerupspejdere.dk/begivenhed/hyggeaften-juniortropklan
DTSTART:20251107T160000Z
DTEND:20251107T200000Z
LOCATION:Hinnerup Gruppen\, Århusvej 14\, Haldum\, 8382 Hinnerup
END:VEVENT
BEGIN:VEVENT
UID:gruppeweb.dk:7502:event:550
DTSTAMP:20260422T203343Z
LAST-MODIFIED:20260214T181237Z
SUMMARY:Flagermuslygteløb
DESCRIPTION:\n
URL:https://hinnerupspejdere.dk/begivenhed/flagermuslygteloeb-1
DTSTART:20251101T170000Z
DTEND:20251102T043000Z
LOCATION:Hinnerup Gruppen\, Århusvej 14\, Haldum\, 8382 Hinnerup
END:VEVENT
BEGIN:VEVENT
UID:gruppeweb.dk:7502:event:551
DTSTAMP:20260422T203343Z
LAST-MODIFIED:20251020T185254Z
SUMMARY:Flagermuslygteløb
DESCRIPTION:\n
URL:https://hinnerupspejdere.dk/begivenhed/flagermuslygteloeb-2
DTSTART:20251101T160000Z
DTEND:20251102T043000Z
LOCATION:Hinnerup Gruppen\, Århusvej 14\, Haldum\, 8382 Hinnerup
END:VEVENT
BEGIN:VEVENT
UID:gruppeweb.dk:7502:event:558
DTSTAMP:20260422T203343Z
LAST-MODIFIED:20260114T141650Z
SUMMARY:SL2026 hel lejr 2. rate
DESCRIPTION:\n
URL:https://hinnerupspejdere.dk/begivenhed/sl2026-hel-lejr-2-rate
DTSTART:20260718T060000Z
DTEND:20260726T140000Z
LOCATION:Hinnerup Gruppen\, Århusvej 14\, Haldum\, 8382 Hinnerup
END:VEVENT
BEGIN:VEVENT
UID:gruppeweb.dk:7502:event:559
DTSTAMP:20260422T203343Z
LAST-MODIFIED:20260114T141737Z
SUMMARY:SL2026 hel lejr 1. rate
DESCRIPTION:\n
URL:https://hinnerupspejdere.dk/begivenhed/sl2026-hel-lejr-1-rate
DTSTART:20260718T060000Z
DTEND:20260726T140000Z
LOCATION:Hinnerup Gruppen\, Århusvej 14\, Haldum\, 8382 Hinnerup
END:VEVENT
BEGIN:VEVENT
UID:gruppeweb.dk:7502:event:560
DTSTAMP:20260422T203343Z
LAST-MODIFIED:20260130T041726Z
SUMMARY:SL2026 hel lejr 3. rate
DESCRIPTION:\n
URL:https://hinnerupspejdere.dk/begivenhed/sl2026-hel-lejr-3-rate
DTSTART:20260718T060000Z
DTEND:20260726T140000Z
LOCATION:Hinnerup Gruppen\, Århusvej 14\, Haldum\, 8382 Hinnerup
END:VEVENT
BEGIN:VEVENT
UID:gruppeweb.dk:7502:event:567
DTSTAMP:20260422T203343Z
LAST-MODIFIED:20251210T161909Z
SUMMARY:Pind turnering
DESCRIPTION:\n
URL:https://hinnerupspejdere.dk/begivenhed/pind-turnering-0
DTSTART:20260605T150000Z
DTEND:20260605T190000Z
LOCATION:Hinnerup Gruppen\, Århusvej 14\, Haldum\, 8382 Hinnerup
END:VEVENT
BEGIN:VEVENT
UID:gruppeweb.dk:7502:event:569
DTSTAMP:20260422T203343Z
LAST-MODIFIED:20260214T181155Z
SUMMARY:Troppen - Observatoriet
DESCRIPTION:\n
URL:https://hinnerupspejdere.dk/begivenhed/troppen-observatoriet
DTSTART:20260128T160000Z
DTEND:20260128T194500Z
LOCATION:Hinnerup Gruppen\, Århusvej 14\, Haldum\, 8382 Hinnerup
END:VEVENT
BEGIN:VEVENT
UID:gruppeweb.dk:7502:event:570
DTSTAMP:20260422T203343Z
LAST-MODIFIED:20260126T210145Z
SUMMARY:Påskelejr på Forlev spejdercenter for troppen
DESCRIPTION:\n
URL:https://hinnerupspejdere.dk/begivenhed/paaskelejr-paa-forlev-spejdercen
 ter-troppen
DTSTART:20260328T090000Z
DTEND:20260404T130000Z
LOCATION:Hinnerup Gruppen\, Århusvej 14\, Haldum\, 8382 Hinnerup
END:VEVENT
BEGIN:VEVENT
UID:gruppeweb.dk:7502:event:583
DTSTAMP:20260422T203343Z
LAST-MODIFIED:20260321T082227Z
SUMMARY:Horizont løb - Trop
DESCRIPTION:Løb start: 18. april 2026 kl. 11.00 på Børkop Station\n\nL
 øb slut: 19. april 2026 kl. 10.00 på Brejning Station\n\n
URL:https://hinnerupspejdere.dk/begivenhed/horizont-loeb-trop
DTSTART:20260418T080000Z
DTEND:20260419T090000Z
LOCATION:Hinnerup Gruppen\, Århusvej 14\, Haldum\, 8382 Hinnerup
END:VEVENT
BEGIN:VEVENT
UID:gruppeweb.dk:7502:event:585
DTSTAMP:20260422T203343Z
LAST-MODIFIED:20260325T210156Z
SUMMARY:Overnatning - Tropsptrulje
DESCRIPTION:\n
URL:https://hinnerupspejdere.dk/begivenhed/overnatning-tropsptrulje
DTSTART:20260411T080000Z
DTEND:20260412T110000Z
LOCATION:Hinnerup Gruppen\, Århusvej 14\, Haldum\, 8382 Hinnerup
END:VEVENT
END:VCALENDAR
